Workbook

Sheet ДС №1
A1: Название и номер комплекса: Название и номер детского сада: ФИО Старшего воспитателя:
A2: № | B2: Номер группы | C2: Количество детей в группе (подгот. группы) | D2: Средний балл по группе | E2: Средний балл по группе МАТЕМАТИКА (Старшая гр.) | F2: Количество детей, рекомендованных к зачислению в мат. группу (Старшая гр.) | G2: Средний балл по группе МАТЕМАТИКА (Подготовительная гр.) | H2: Количество детей, рекомендованных к зачислению в мат. класс (Подготовительная гр.)
A3: 0 (пример) | B3: Группа №0 | C3: 31 | D3: 34.5 | E3: 15 | F3: 5 | G3: 18.9 | H3: 6
A4: 1 | D4: 0 | E4: 0 | G4: 0
A5: 2 | D5: 0 | E5: 0 | G5: 0
A6: 3 | D6: 0 | E6: 0 | G6: 0
A7: 4 | D7: 0 | E7: 0 | G7: 0
A8: 5 | D8: 0 | E8: 0 | G8: 0
A9: 6 | D9: 0 | E9: 0 | G9: 0
A10: 7 | D10: 0 | E10: 0 | G10: 0
A11: 8 | D11: 0 | E11: 0 | G11: 0
A12: 9 | D12: 0 | E12: 0 | G12: 0
A13: 10 | D13: 0 | E13: 0 | G13: 0
A14: Итого по детскому саду | C14: =SUM(C4:C13) -> 0 | D14: =AVERAGE(D4:D13) -> 0 | E14: =AVERAGE(E4:E13) -> 0 | F14: =SUM(F4:F13) -> 0 | G14: =AVERAGE(G4:G13) -> 0 | H14: =SUM(H4:H13) -> 0

Sheet ДС №2
A1: Название и номер комплекса: Название и номер детского сада: ФИО Старшего воспитателя:
A2: № | B2: Номер группы | C2: Количество детей в группе (подгот. группы) | D2: Средний балл по группе | E2: Средний балл по группе МАТЕМАТИКА (Старшая гр.) | F2: Количество детей, рекомендованных к зачислению в мат. группу (Старшая гр.) | G2: Средний балл по группе МАТЕМАТИКА (Подготовительная гр.) | H2: Количество детей, рекомендованных к зачислению в мат. класс (Подготовительная гр.)
A3: 0 (пример) | B3: Группа №0 | C3: 31 | D3: 34.5 | E3: 15 | F3: 5 | G3: 18.9 | H3: 6
A4: 1 | D4: 0 | E4: 0 | G4: 0
A5: 2 | D5: 0 | E5: 0 | G5: 0
A6: 3 | D6: 0 | E6: 0 | G6: 0
A7: 4 | D7: 0 | E7: 0 | G7: 0
A8: 5 | D8: 0 | E8: 0 | G8: 0
A9: 6 | D9: 0 | E9: 0 | G9: 0
A10: 7 | D10: 0 | E10: 0 | G10: 0
A11: 8 | D11: 0 | E11: 0 | G11: 0
A12: 9 | D12: 0 | E12: 0 | G12: 0
A13: 10 | D13: 0 | E13: 0 | G13: 0
A14: Итого по детскому саду | C14: =SUM(C4:C13) -> 0 | D14: =AVERAGE(D4:D13) -> 0 | E14: =AVERAGE(E4:E13) -> 0 | F14: =SUM(F4:F13) -> 0 | G14: =AVERAGE(G4:G13) -> 0 | H14: =SUM(H4:H13) -> 0

Sheet ДС №3
A1: Название и номер комплекса: Название и номер детского сада: ФИО Старшего воспитателя:
A2: № | B2: Номер группы | C2: Количество детей в группе (подгот. группы) | D2: Средний балл по группе | E2: Средний балл по группе МАТЕМАТИКА (Старшая гр.) | F2: Количество детей, рекомендованных к зачислению в мат. группу (Старшая гр.) | G2: Средний балл по группе МАТЕМАТИКА (Подготовительная гр.) | H2: Количество детей, рекомендованных к зачислению в мат. класс (Подготовительная гр.)
A3: 0 (пример) | B3: Группа №0 | C3: 31 | D3: 34.5 | E3: 15 | F3: 5 | G3: 18.9 | H3: 6
A4: 1 | D4: 0 | E4: 0 | G4: 0
A5: 2 | D5: 0 | E5: 0 | G5: 0
A6: 3 | D6: 0 | E6: 0 | G6: 0
A7: 4 | D7: 0 | E7: 0 | G7: 0
A8: 5 | D8: 0 | E8: 0 | G8: 0
A9: 6 | D9: 0 | E9: 0 | G9: 0
A10: 7 | D10: 0 | E10: 0 | G10: 0
A11: 8 | D11: 0 | E11: 0 | G11: 0
A12: 9 | D12: 0 | E12: 0 | G12: 0
A13: 10 | D13: 0 | E13: 0 | G13: 0
A14: Итого по детскому саду | C14: =SUM(C4:C13) -> 0 | D14: =AVERAGE(D4:D13) -> 0 | E14: =AVERAGE(E4:E13) -> 0 | F14: =SUM(F4:F13) -> 0 | G14: =AVERAGE(G4:G13) -> 0 | H14: =SUM(H4:H13) -> 0

Sheet ДС №4
A1: Название и номер комплекса: Название и номер детского сада: ФИО Старшего воспитателя:
A2: № | B2: Номер группы | C2: Количество детей в группе (подгот. группы) | D2: Средний балл по группе | E2: Средний балл по группе МАТЕМАТИКА (Старшая гр.) | F2: Количество детей, рекомендованных к зачислению в мат. группу (Старшая гр.) | G2: Средний балл по группе МАТЕМАТИКА (Подготовительная гр.) | H2: Количество детей, рекомендованных к зачислению в мат. класс (Подготовительная гр.)
A3: 0 (пример) | B3: Группа №0 | C3: 31 | D3: 34.5 | E3: 15 | F3: 5 | G3: 18.9 | H3: 6
A4: 1 | D4: 0 | E4: 0 | G4: 0
A5: 2 | D5: 0 | E5: 0 | G5: 0
A6: 3 | D6: 0 | E6: 0 | G6: 0
A7: 4 | D7: 0 | E7: 0 | G7: 0
A8: 5 | D8: 0 | E8: 0 | G8: 0
A9: 6 | D9: 0 | E9: 0 | G9: 0
A10: 7 | D10: 0 | E10: 0 | G10: 0
A11: 8 | D11: 0 | E11: 0 | G11: 0
A12: 9 | D12: 0 | E12: 0 | G12: 0
A13: 10 | D13: 0 | E13: 0 | G13: 0
A14: Итого по детскому саду | C14: =SUM(C4:C13) -> 0 | D14: =AVERAGE(D4:D13) -> 0 | E14: =AVERAGE(E4:E13) -> 0 | F14: =SUM(F4:F13) -> 0 | G14: =AVERAGE(G4:G13) -> 0 | H14: =SUM(H4:H13) -> 0

Sheet ДС №5
A1: Название и номер комплекса: Название и номер детского сада: ФИО Старшего воспитателя:
A2: № | B2: Номер группы | C2: Количество детей в группе (подгот. группы) | D2: Средний балл по группе | E2: Средний балл по группе МАТЕМАТИКА (Старшая гр.) | F2: Количество детей, рекомендованных к зачислению в мат. группу (Старшая гр.) | G2: Средний балл по группе МАТЕМАТИКА (Подготовительная гр.) | H2: Количество детей, рекомендованных к зачислению в мат. класс (Подготовительная гр.)
A3: 0 (пример) | B3: Группа №0 | C3: 31 | D3: 34.5 | E3: 15 | F3: 5 | G3: 18.9 | H3: 6
A4: 1 | D4: 0 | E4: 0 | G4: 0
A5: 2 | D5: 0 | E5: 0 | G5: 0
A6: 3 | D6: 0 | E6: 0 | G6: 0
A7: 4 | D7: 0 | E7: 0 | G7: 0
A8: 5 | D8: 0 | E8: 0 | G8: 0
A9: 6 | D9: 0 | E9: 0 | G9: 0
A10: 7 | D10: 0 | E10: 0 | G10: 0
A11: 8 | D11: 0 | E11: 0 | G11: 0
A12: 9 | D12: 0 | E12: 0 | G12: 0
A13: 10 | D13: 0 | E13: 0 | G13: 0
A14: Итого по детскому саду | C14: =SUM(C4:C13) -> 0 | D14: =AVERAGE(D4:D13) -> 0 | E14: =AVERAGE(E4:E13) -> 0 | F14: =SUM(F4:F13) -> 0 | G14: =AVERAGE(G4:G13) -> 0 | H14: =SUM(H4:H13) -> 0

Sheet ДС №6
A1: Название и номер комплекса: Название и номер детского сада: ФИО Старшего воспитателя:
A2: № | B2: Номер группы | C2: Количество детей в группе (подгот. группы) | D2: Средний балл по группе | E2: Средний балл по группе МАТЕМАТИКА (Старшая гр.) | F2: Количество детей, рекомендованных к зачислению в мат. группу (Старшая гр.) | G2: Средний балл по группе МАТЕМАТИКА (Подготовительная гр.) | H2: Количество детей, рекомендованных к зачислению в мат. класс (Подготовительная гр.)
A3: 0 (пример) | B3: Группа №0 | C3: 31 | D3: 34.5 | E3: 15 | F3: 5 | G3: 18.9 | H3: 6
A4: 1 | D4: 0 | E4: 0 | G4: 0
A5: 2 | D5: 0 | E5: 0 | G5: 0
A6: 3 | D6: 0 | E6: 0 | G6: 0
A7: 4 | D7: 0 | E7: 0 | G7: 0
A8: 5 | D8: 0 | E8: 0 | G8: 0
A9: 6 | D9: 0 | E9: 0 | G9: 0
A10: 7 | D10: 0 | E10: 0 | G10: 0
A11: 8 | D11: 0 | E11: 0 | G11: 0
A12: 9 | D12: 0 | E12: 0 | G12: 0
A13: 10 | D13: 0 | E13: 0 | G13: 0
A14: Итого по детскому саду | C14: =SUM(C4:C13) -> 0 | D14: =AVERAGE(D4:D13) -> 0 | E14: =AVERAGE(E4:E13) -> 0 | F14: =SUM(F4:F13) -> 0 | G14: =AVERAGE(G4:G13) -> 0 | H14: =SUM(H4:H13) -> 0

Sheet ДС №7
A1: Название и номер комплекса: Название и номер детского сада: ФИО Старшего воспитателя:
A2: № | B2: Номер группы | C2: Количество детей в группе (подгот. группы) | D2: Средний балл по группе | E2: Средний балл по группе МАТЕМАТИКА (Старшая гр.) | F2: Количество детей, рекомендованных к зачислению в мат. группу (Старшая гр.) | G2: Средний балл по группе МАТЕМАТИКА (Подготовительная гр.) | H2: Количество детей, рекомендованных к зачислению в мат. класс (Подготовительная гр.)
A3: 0 (пример) | B3: Группа №0 | C3: 31 | D3: 34.5 | E3: 15 | F3: 5 | G3: 18.9 | H3: 6
A4: 1 | D4: 0 | E4: 0 | G4: 0
A5: 2 | D5: 0 | E5: 0 | G5: 0
A6: 3 | D6: 0 | E6: 0 | G6: 0
A7: 4 | D7: 0 | E7: 0 | G7: 0
A8: 5 | D8: 0 | E8: 0
A9: 6 | D9: 0 | E9: 0 | G9: 0
A10: 7 | D10: 0 | E10: 0 | G10: 0
A11: 8 | D11: 0 | E11: 0 | G11: 0
A12: 9 | D12: 0 | E12: 0 | G12: 0
A13: 10 | D13: 0 | E13: 0 | G13: 0
A14: Итого по детскому саду | C14: =SUM(C4:C13) -> 0 | D14: =AVERAGE(D4:D13) -> 0 | E14: =AVERAGE(E4:E13) -> 0 | F14: =SUM(F4:F13) -> 0 | G14: =AVERAGE(G4:G13) -> 0 | H14: =SUM(H4:H13) -> 0

Sheet ДС №8
A1: Название и номер комплекса: Название и номер детского сада: ФИО Старшего воспитателя:
A2: № | B2: Номер группы | C2: Количество детей в группе (подгот. группы) | D2: Средний балл по группе | E2: Средний балл по группе МАТЕМАТИКА (Старшая гр.) | F2: Количество детей, рекомендованных к зачислению в мат. группу (Старшая гр.) | G2: Средний балл по группе МАТЕМАТИКА (Подготовительная гр.) | H2: Количество детей, рекомендованных к зачислению в мат. класс (Подготовительная гр.)
A3: 0 (пример) | B3: Группа №0 | C3: 31 | D3: 34.5 | E3: 15 | F3: 5 | G3: 18.9 | H3: 6
A4: 1 | D4: 0 | E4: 0 | G4: 0
A5: 2 | D5: 0 | E5: 0 | G5: 0
A6: 3 | D6: 0 | E6: 0 | G6: 0
A7: 4 | D7: 0 | E7: 0 | G7: 0
A8: 5 | D8: 0 | E8: 0 | G8: 0
A9: 6 | D9: 0 | E9: 0 | G9: 0
A10: 7 | D10: 0 | E10: 0 | G10: 0
A11: 8 | D11: 0 | E11: 0 | G11: 0
A12: 9 | D12: 0 | E12: 0 | G12: 0
A13: 10 | D13: 0 | E13: 0 | G13: 0
A14: Итого по детскому саду | C14: =SUM(C4:C13) -> 0 | D14: =AVERAGE(D4:D13) -> 0 | E14: =AVERAGE(E4:E13) -> 0 | F14: =SUM(F4:F13) -> 0 | G14: =AVERAGE(G4:G13) -> 0 | H14: =SUM(H4:H13) -> 0

Sheet ДС №9
A1: Название и номер комплекса: Название и номер детского сада: ФИО Старшего воспитателя:
A2: № | B2: Номер группы | C2: Количество детей в группе (подгот. группы) | D2: Средний балл по группе | E2: Средний балл по группе МАТЕМАТИКА (Старшая гр.) | F2: Количество детей, рекомендованных к зачислению в мат. группу (Старшая гр.) | G2: Средний балл по группе МАТЕМАТИКА (Подготовительная гр.) | H2: Количество детей, рекомендованных к зачислению в мат. класс (Подготовительная гр.)
A3: 0 (пример) | B3: Группа №0 | C3: 31 | D3: 34.5 | E3: 15 | F3: 5 | G3: 18.9 | H3: 6
A4: 1 | D4: 0 | E4: 0 | G4: 0
A5: 2 | D5: 0 | E5: 0 | G5: 0
A6: 3 | D6: 0 | E6: 0 | G6: 0
A7: 4 | D7: 0 | E7: 0 | G7: 0
A8: 5 | D8: 0 | E8: 0 | G8: 0
A9: 6 | D9: 0 | E9: 0 | G9: 0
A10: 7 | D10: 0 | E10: 0 | G10: 0
A11: 8 | D11: 0 | E11: 0 | G11: 0
A12: 9 | D12: 0 | E12: 0 | G12: 0
A13: 10 | D13: 0 | E13: 0 | G13: 0
A14: Итого по детскому саду | C14: =SUM(C4:C13) -> 0 | D14: =AVERAGE(D4:D13) -> 0 | E14: =AVERAGE(E4:E13) -> 0 | F14: =SUM(F4:F13) -> 0 | G14: =AVERAGE(G4:G13) -> 0 | H14: =SUM(H4:H13) -> 0

Sheet ДС №10
A1: Название и номер комплекса: Название и номер детского сада: ФИО Старшего воспитателя:
A2: № | B2: Номер группы | C2: Количество детей в группе (подгот. группы) | D2: Средний балл по группе | E2: Средний балл по группе МАТЕМАТИКА (Старшая гр.) | F2: Количество детей, рекомендованных к зачислению в мат. группу (Старшая гр.) | G2: Средний балл по группе МАТЕМАТИКА (Подготовительная гр.) | H2: Количество детей, рекомендованных к зачислению в мат. класс (Подготовительная гр.)
A3: 0 (пример) | B3: Группа №0 | C3: 31 | D3: 34.5 | E3: 15 | F3: 5 | G3: 18.9 | H3: 6
A4: 1 | D4: 0 | E4: 0 | G4: 0
A5: 2 | D5: 0 | E5: 0 | G5: 0
A6: 3 | D6: 0 | E6: 0 | G6: 0
A7: 4 | D7: 0 | E7: 0 | G7: 0
A8: 5 | D8: 0 | E8: 0 | G8: 0
A9: 6 | D9: 0 | E9: 0 | G9: 0
A10: 7 | D10: 0 | E10: 0 | G10: 0
A11: 8 | D11: 0 | E11: 0 | G11: 0
A12: 9 | D12: 0 | E12: 0 | G12: 0
A13: 10 | D13: 0 | E13: 0 | G13: 0
A14: Итого по детскому саду | C14: =SUM(C4:C13) -> 0 | D14: =AVERAGE(D4:D13) -> 0 | E14: =AVERAGE(E4:E13) -> 0 | F14: =SUM(F4:F13) -> 0 | G14: =AVERAGE(G4:G13) -> 0 | H14: =SUM(H4:H13) -> 0

Sheet Итоги
A1: Название и номер комплекса: МБОУ СОШ №1, г. Сергиев Посад ФИО ОТВЕТСТВЕННОГО И ТЕЛЕФОН: Малкова Ирина Николаевна, 8-905-525-83-41
A2: № | B2: Наименование ДОО | C2: Количество детей в детском саду (подгот. группы) | D2: Средний балл по ДС | E2: Средний балл по ДС МАТЕМАТИКА (Старшая гр) | F2: Количество детей, рекомендованных к зачислению в мат. группу | G2: Средний балл по ДС МАТЕМАТИКА (Подготовительная гр) | H2: Количество детей, рекомендованных к зачислению в мат. класс
A3: 0 (пример) | B3: ДС №0 | C3: 58 | D3: 45.7 | E3: 18.2 | F3: 5 | G3: 25.7 | H3: 5
A4: 1 | B4: МБОУ СОШ №1 (дошкольное подразделение №2) подготовительная группа | C4: 11 | D4: 48.72 | E4: 0 | F4: 0 | G4: 29.18 | H4: 8
A5: 2 | B5: МБОУ СОШ №1 (дошкольное подразделение №2)старшая группа | C5: 15 | D5: 44.86 | E5: 23.54 | F5: 8 | G5: ='ДС №2'!G14 -> 0 | H5: ='ДС №2'!H14 -> 0
A6: 3 | B6: МБОУ СОШ №1 (дошкольное подразделение №1) подготовительная группа | C6: 34 | D6: 43.98 | E6: ='ДС №3'!E14 -> 0 | F6: ='ДС №3'!F14 -> 0 | G6: 23.33 | H6: 5
A7: 4 | B7: МБОУ СОШ №1 (дошкольное подразделение №1)старшая группа | C7: 28 | D7: 42.37 | E7: 20.35 | F7: 9 | G7: ='ДС №4'!G14 -> 0 | H7: ='ДС №4'!H14 -> 0
A8: 5 | B8: МБОУ СОШ №1 (дошкольное подразделение №3) подготовительная группа | C8: 27 | D8: 43.17 | E8: 0 | F8: ='ДС №5'!F14 -> 0 | G8: 24.11 | H8: 5
A9: 6 | B9: МБОУ СОШ №1 (дошкольное подразделение №3)старшая группа | C9: 23 | D9: 40.29 | E9: 19.41 | F9: 3 | G9: 0 | H9: ='ДС №6'!H14 -> 0
A10: 7 | C10: ='ДС №7'!C14 -> 0 | D10: ='ДС №7'!D14 -> 0 | E10: ='ДС №7'!E14 -> 0 | F10: ='ДС №7'!F14 -> 0 | G10: ='ДС №7'!G14 -> 0 | H10: ='ДС №7'!H14 -> 0
A11: 8 | C11: ='ДС №8'!C14 -> 0 | D11: ='ДС №8'!D14 -> 0 | E11: ='ДС №8'!E14 -> 0 | F11: ='ДС №8'!F14 -> 0 | G11: ='ДС №8'!G14 -> 0 | H11: ='ДС №8'!H14 -> 0
A12: 9 | C12: ='ДС №9'!C14 -> 0 | D12: ='ДС №9'!D14 -> 0 | E12: ='ДС №9'!E14 -> 0 | F12: ='ДС №9'!F14 -> 0 | G12: ='ДС №9'!G14 -> 0 | H12: ='ДС №9'!H14 -> 0
A13: 10 | C13: ='ДС №10'!C14 -> 0 | D13: ='ДС №10'!D14 -> 0 | E13: ='ДС №10'!E14 -> 0 | F13: ='ДС №10'!F14 -> 0 | G13: ='ДС №10'!G14 -> 0 | H13: ='ДС №10'!H14 -> 0
A14: Итого по всему комплексу | C14: =SUM(C4:C13) -> 138 | D14: =SUM(D4:D13) -> 223.1 | E14: =AVERAGE(E4:E13) -> 6.33 | F14: =SUM(F4:F13) -> 20 | G14: =AVERAGE(G4:G13) -> 7.662 | H14: =SUM(H4:H13) -> 18
